BEGIN:VCALENDAR
VERSION:2.0
PRODID:-//Canungra Visitor Information Centre - ECPv4.6.17//NONSGML v1.0//EN
CALSCALE:GREGORIAN
METHOD:PUBLISH
X-WR-CALNAME:Canungra Visitor Information Centre
X-ORIGINAL-URL:https://www.canungrainformationcentre.com.au
X-WR-CALDESC:Events for Canungra Visitor Information Centre
BEGIN:VEVENT
DTSTART;VALUE=DATE:20181001
DTEND;VALUE=DATE:20181101
DTSTAMP:20190301T104621
CREATED:20180330T023606Z
LAST-MODIFIED:20180330T214523Z
UID:587-1538352000-1541030399@www.canungrainformationcentre.com.au
SUMMARY:Turning Canungra Pink
DESCRIPTION:Our little town turns PINK every October to raise funds and awareness for all types of cancer. Funds are donated to Cancer Council QLD and used to assist people in our community who are battling cancer. Fun events for a great cause! #smalltownbigheart \nFor more information\, see https://www.visitscenicrim.com.au/events/community-event/turning-canungra-pink/ \n  \n
URL:https://www.canungrainformationcentre.com.au/event/turning-canungra-pink/
END:VEVENT
END:VCALENDAR