BEGIN:VCALENDAR
VERSION:2.0
PRODID:-//Canungra Visitor Information Centre - ECPv4.6.17//NONSGML v1.0//EN
CALSCALE:GREGORIAN
METHOD:PUBLISH
X-WR-CALNAME:Canungra Visitor Information Centre
X-ORIGINAL-URL:https://www.canungrainformationcentre.com.au
X-WR-CALDESC:Events for Canungra Visitor Information Centre
BEGIN:VEVENT
DTSTART;VALUE=DATE:20180714
DTEND;VALUE=DATE:20180715
DTSTAMP:20190301T105202
CREATED:20180330T023208Z
LAST-MODIFIED:20180330T214148Z
UID:579-1531526400-1531612799@www.canungrainformationcentre.com.au
SUMMARY:Canungra Rodeo
DESCRIPTION:Enjoy all the Rodeo action at Canungra Showground\, Coburg Road\, Canungra. \nFor more information\, see http://www.canungrashowsociety.org/ \n
URL:https://www.canungrainformationcentre.com.au/event/canungra-rodeo/
LOCATION:Coburg Road\, Canungra\, QLD\, 4275\, Australia
END:VEVENT
END:VCALENDAR