BEGIN:VCALENDAR
VERSION:2.0
PRODID:-//Canungra Visitor Information Centre - ECPv4.6.17//NONSGML v1.0//EN
CALSCALE:GREGORIAN
METHOD:PUBLISH
X-WR-CALNAME:Canungra Visitor Information Centre
X-ORIGINAL-URL:https://www.canungrainformationcentre.com.au
X-WR-CALDESC:Events for Canungra Visitor Information Centre
BEGIN:VEVENT
DTSTART;VALUE=DATE:20180630
DTEND;VALUE=DATE:20180709
DTSTAMP:20190301T103421
CREATED:20180330T015450Z
LAST-MODIFIED:20180401T015919Z
UID:565-1530316800-1531094399@www.canungrainformationcentre.com.au
SUMMARY:Scenic Rim Eat Local Week
DESCRIPTION:Scenic Rim Eat Local Week is your backstage pass to the farms\, wineries and food stories of the Scenic Rim. \nEat your way around the region through a program of festivals\, farm-gate events and culinary experiences to suit foodies of all ages. \nFor more information\, see https://www.visitscenicrim.com.au/events/event-markets/scenic-rim-eat-local-week/ \n
URL:https://www.canungrainformationcentre.com.au/event/scenic-rim-eat-local-week/
END:VEVENT
END:VCALENDAR